BEGIN:VCALENDAR
VERSION:2.0
PRODID:-//wp-events-plugin.com//7.2.3.1//EN
BEGIN:VEVENT
UID:19@lalecheliga.de
DTSTART:20251008T100000Z
DTEND:20251008T113000Z
DTSTAMP:20251006T065803Z
URL:https://www.lalecheliga.de/events/stillgruppe-heidelberg/
SUMMARY:Stillgruppe Heidelberg
DESCRIPTION:Herzlich willkommen sind Mütter mit ihren Stillkindern jeden A
 lters\, Geschwisterkinder sowie Schwangere.\n\nEine Anmeldungen vorab per 
 E-Mail bei Katharina Schaller ist erforderlich.
CATEGORIES:Stillgruppe,Stillgruppe (vor Ort)
LOCATION:Rabatz - Veranstaltungsraum der Hagebutze\, Rheinstraße 4\, Heide
 lberg\, 69126\, Deutschland
X-APPLE-STRUCTURED-LOCATION;VALUE=URI;X-ADDRESS=Rheinstraße 4\, Heidelberg
 \, 69126\, Deutschland;X-APPLE-RADIUS=100;X-TITLE=Rabatz - Veranstaltungsr
 aum der Hagebutze:geo:0,0
END:VEVENT
END:VCALENDAR